BEGIN:VCALENDAR
VERSION:2.0
PRODID:-//wp-events-plugin.com//7.2.3.1//EN
TZID:Europe/Berlin
X-WR-TIMEZONE:Europe/Berlin
BEGIN:VEVENT
UID:37@kleingartenvereinteltow-ost.de
DTSTART;TZID=Europe/Berlin:20250529T100000
DTEND;TZID=Europe/Berlin:20250529T100000
DTSTAMP:20250328T075818Z
URL:https://kleingartenvereinteltow-ost.de/veranstaltungen/herrentag-2/
SUMMARY:Herrentag
DESCRIPTION:(Frauen sind trotz Proteste der Herren auch dieses Jahr erwüns
 cht)
ATTACH;FMTTYPE=image/jpeg:https://kleingartenvereinteltow-ost.de/wp-conten
 t/uploads/2024/01/herrentag.jpg
LOCATION:Vereinsheim\, Birkengrund 49 \, Teltow\, Brandenburg\, 14513\, Deu
 tschland
X-APPLE-STRUCTURED-LOCATION;VALUE=URI;X-ADDRESS=Birkengrund 49 \, Teltow\, 
 Brandenburg\, 14513\, Deutschland;X-APPLE-RADIUS=100;X-TITLE=Vereinsheim:g
 eo:0,0
END:VEVENT
BEGIN:VTIMEZONE
TZID:Europe/Berlin
X-LIC-LOCATION:Europe/Berlin
BEGIN:DAYLIGHT
DTSTART:20250330T030000
TZOFFSETFROM:+0100
TZOFFSETTO:+0200
TZNAME:CEST
END:DAYLIGHT
END:VTIMEZONE
END:VCALENDAR